BEGIN:VCALENDAR
VERSION:2.0
PRODID:-//Texas Heavy//Event Calendar//EN
CALSCALE:GREGORIAN
METHOD:PUBLISH
BEGIN:VEVENT
UID:calendar-227@texasheavy.com
DTSTAMP:20260419T152915Z
DTSTART:20260204T200000Z
DTEND:20260204T230000Z
SUMMARY:ARKONA: North American Paganist Tour 2026
DESCRIPTION:ARKONA: North American Paganist Tour 2026
LOCATION:Come and Take It\, N/A\, Austin
END:VEVENT
END:VCALENDAR
