BEGIN:VCALENDAR
VERSION:2.0
PRODID:-//Texas Heavy//Event Calendar//EN
CALSCALE:GREGORIAN
METHOD:PUBLISH
BEGIN:VEVENT
UID:calendar-555@texasheavy.com
DTSTAMP:20260420T054313Z
DTSTART:20270220T020000Z
DTEND:20270220T050000Z
SUMMARY:Canceled-KOFFIN KATS
DESCRIPTION:Canceled-KOFFIN KATS
LOCATION:Come and Take It\, N/A\, Austin
END:VEVENT
END:VCALENDAR
