BEGIN:VCALENDAR
VERSION:2.0
PRODID:-//Texas Heavy//Event Calendar//EN
CALSCALE:GREGORIAN
METHOD:PUBLISH
BEGIN:VEVENT
UID:calendar-779@texasheavy.com
DTSTAMP:20260420T090404Z
DTSTART:20270403T003000Z
DTEND:20270403T033000Z
SUMMARY:Magnolia Park now at Bad Astronaut
DESCRIPTION:Magnolia Park now at Bad Astronaut | Buy tickets: https://wl.seetickets.us/event/magnolia-park-now-at-bad-astronaut/671185?afflky=warehouselive
LOCATION:Warehouse Live Midtown\, 2600 Travis Street\, Houston\, TX 77006\, Houston
END:VEVENT
END:VCALENDAR
